BEGIN:VCALENDAR
VERSION:2.0
PRODID:-//Pujols Family Foundation - ECPv5.7.0//NONSGML v1.0//EN
CALSCALE:GREGORIAN
METHOD:PUBLISH
X-WR-CALNAME:Pujols Family Foundation
X-ORIGINAL-URL:https://www.pujolsfamilyfoundation.org
X-WR-CALDESC:Events for Pujols Family Foundation
BEGIN:VTIMEZONE
TZID:UTC
BEGIN:STANDARD
TZOFFSETFROM:+0000
TZOFFSETTO:+0000
TZNAME:UTC
DTSTART:20240101T000000
END:STANDARD
END:VTIMEZONE
BEGIN:VEVENT
DTSTART;TZID=UTC:20240204T160000
DTEND;TZID=UTC:20240204T200000
DTSTAMP:20260421T091337
CREATED:20240102T165737Z
LAST-MODIFIED:20240102T165737Z
UID:7979-1707062400-1707076800@www.pujolsfamilyfoundation.org
SUMMARY:Albert's All Star Basketball Game - St. Louis
DESCRIPTION:Purchase your sponsorship/tickets here: https://secure.qgiv.com/for/2024albertsallstarbasketballgame \nClick here to view the sponsor deck.
URL:https://www.pujolsfamilyfoundation.org/event/alberts-all-star-basketball-game-st-louis-3/
CATEGORIES:Down Syndrome Events
END:VEVENT
END:VCALENDAR