BEGIN:VCALENDAR
VERSION:2.0
PRODID:-//Pujols Family Foundation - ECPv5.7.0//NONSGML v1.0//EN
CALSCALE:GREGORIAN
METHOD:PUBLISH
X-WR-CALNAME:Pujols Family Foundation
X-ORIGINAL-URL:https://www.pujolsfamilyfoundation.org
X-WR-CALDESC:Events for Pujols Family Foundation
BEGIN:VTIMEZONE
TZID:UTC
BEGIN:STANDARD
TZOFFSETFROM:+0000
TZOFFSETTO:+0000
TZNAME:UTC
DTSTART:20190101T000000
END:STANDARD
END:VTIMEZONE
BEGIN:VEVENT
DTSTART;TZID=UTC:20190621T080000
DTEND;TZID=UTC:20190621T170000
DTSTAMP:20260419T132121
CREATED:20190131T185555Z
LAST-MODIFIED:20190618T164330Z
UID:4126-1561104000-1561136400@www.pujolsfamilyfoundation.org
SUMMARY:Angels vs. Cardinals Game - Return of the Machine
DESCRIPTION:Join us for the Angels vs. Cardinals game at Busch Stadium on Friday\, June 21 for the Return of the Machine! \nJoin the Pujols Family Foundation in cheering on Albert at his return to Busch Stadium. Tickets are available in all-inclusive suites at the 300 level. Limited quantity available. \nTickets are $500 a piece. For questions\, please call 314-878-2105 ext. 201. \nTickets must be picked up from the Pujols Family Foundation office (111 Westport Plaza\, Suite 255\, St. Louis\, MO) at least one week prior to the game date. Priority Mail shipping with tracking is available for a flat-rate of $8. \nGame and stadium specific information can be found via the Cardinals website: https://www.mlb.com/cardinals/schedule/2019-06. \nMore Information \nClick the register button below to purchase tickets:
URL:https://www.pujolsfamilyfoundation.org/event/angels-vs-cardinals-game-return-of-the-machine/
CATEGORIES:Fundraising
END:VEVENT
END:VCALENDAR