BEGIN:VCALENDAR
VERSION:2.0
PRODID:-//Pujols Family Foundation - ECPv5.7.0//NONSGML v1.0//EN
CALSCALE:GREGORIAN
METHOD:PUBLISH
X-WR-CALNAME:Pujols Family Foundation
X-ORIGINAL-URL:https://www.pujolsfamilyfoundation.org
X-WR-CALDESC:Events for Pujols Family Foundation
BEGIN:VTIMEZONE
TZID:UTC
BEGIN:STANDARD
TZOFFSETFROM:+0000
TZOFFSETTO:+0000
TZNAME:UTC
DTSTART:20190101T000000
END:STANDARD
END:VTIMEZONE
BEGIN:VEVENT
DTSTART;VALUE=DATE:20190623
DTEND;VALUE=DATE:20190624
DTSTAMP:20260421T085254
CREATED:20190127T210524Z
LAST-MODIFIED:20190222T162038Z
UID:4107-1561248000-1561334399@www.pujolsfamilyfoundation.org
SUMMARY:Angels vs. Cardinals Game
DESCRIPTION:Join us for the Angels vs. Cardinals game at Busch Stadium on Sunday\, June 23! \nJoin the Pujols Family Foundation in cheering on Albert at his return to Busch Stadium. Tickets are located in sections 270\, 271\, and 272. Best available tickets will be given in order of purchase date\, first come first serve. \nTickets are $58 a piece. A group discount will be given to groups of 10+. For questions\, please call 314-878-2105 ext. 201. \nTickets must be picked up from the Pujols Family Foundation office (111 Westport Plaza\, Suite 255\, St. Louis\, MO) at least one week prior to the game date. Priority Mail shipping with tracking is available for a flat-rate of $8. \nMore Information \nClick the register button below to purchase tickets:
URL:https://www.pujolsfamilyfoundation.org/event/angels-vs-cardinals-game/
END:VEVENT
END:VCALENDAR