BEGIN:VCALENDAR
VERSION:2.0
PRODID:-//Pujols Family Foundation - ECPv5.7.0//NONSGML v1.0//EN
CALSCALE:GREGORIAN
METHOD:PUBLISH
X-WR-CALNAME:Pujols Family Foundation
X-ORIGINAL-URL:https://www.pujolsfamilyfoundation.org
X-WR-CALDESC:Events for Pujols Family Foundation
BEGIN:VTIMEZONE
TZID:UTC
BEGIN:STANDARD
TZOFFSETFROM:+0000
TZOFFSETTO:+0000
TZNAME:UTC
DTSTART:20190101T000000
END:STANDARD
END:VTIMEZONE
BEGIN:VEVENT
DTSTART;TZID=UTC:20190615T113000
DTEND;TZID=UTC:20190615T133000
DTSTAMP:20260421T091043
CREATED:20190220T184631Z
LAST-MODIFIED:20190513T174236Z
UID:4173-1560598200-1560605400@www.pujolsfamilyfoundation.org
SUMMARY:New Mothers Luncheon - St. Louis
DESCRIPTION:
URL:https://www.pujolsfamilyfoundation.org/event/new-mothers-luncheon-2/
LOCATION:Spazio’s Westport
CATEGORIES:Awareness & Education Events
END:VEVENT
END:VCALENDAR