BEGIN:VCALENDAR
VERSION:2.0
PRODID:-//Pujols Family Foundation - ECPv5.7.0//NONSGML v1.0//EN
CALSCALE:GREGORIAN
METHOD:PUBLISH
X-WR-CALNAME:Pujols Family Foundation
X-ORIGINAL-URL:https://www.pujolsfamilyfoundation.org
X-WR-CALDESC:Events for Pujols Family Foundation
BEGIN:VTIMEZONE
TZID:UTC
BEGIN:STANDARD
TZOFFSETFROM:+0000
TZOFFSETTO:+0000
TZNAME:UTC
DTSTART:20230101T000000
END:STANDARD
END:VTIMEZONE
BEGIN:VEVENT
DTSTART;VALUE=DATE:20231209
DTEND;VALUE=DATE:20231210
DTSTAMP:20260421T104742
CREATED:20230607T171924Z
LAST-MODIFIED:20231209T002437Z
UID:7769-1702080000-1702166399@www.pujolsfamilyfoundation.org
SUMMARY:O' Night Divine Christmas Celebration  - St. Louis
DESCRIPTION:The O’ Night Divine Christmas Celebration is a memorable night that showcases the impactful work of the Pujols Family Foundation and its mission to serve the Down syndrome community in the US and the impoverished people of the Dominican Republic. \nClick here to register for the event: https://secure.qgiv.com/for/2odcc \nView the deck here: 2023 PFF OND Sponsor Deck \nRegister for the silent auction here: https://OND23.givesmart.com
URL:https://www.pujolsfamilyfoundation.org/event/o-night-divine-christmas-celebration-st-louis-4/
CATEGORIES:Fundraising
END:VEVENT
END:VCALENDAR