BEGIN:VCALENDAR
VERSION:2.0
PRODID:-//Pujols Family Foundation - ECPv5.7.0//NONSGML v1.0//EN
CALSCALE:GREGORIAN
METHOD:PUBLISH
X-WR-CALNAME:Pujols Family Foundation
X-ORIGINAL-URL:https://www.pujolsfamilyfoundation.org
X-WR-CALDESC:Events for Pujols Family Foundation
BEGIN:VTIMEZONE
TZID:UTC
BEGIN:STANDARD
TZOFFSETFROM:+0000
TZOFFSETTO:+0000
TZNAME:UTC
DTSTART:20190101T000000
END:STANDARD
END:VTIMEZONE
BEGIN:VEVENT
DTSTART;TZID=UTC:20190417T093000
DTEND;TZID=UTC:20190417T113000
DTSTAMP:20260420T185120
CREATED:20190220T190042Z
LAST-MODIFIED:20190220T190042Z
UID:4186-1555493400-1555500600@www.pujolsfamilyfoundation.org
SUMMARY:Rattle n' Roll Music Therapy
DESCRIPTION:
URL:https://www.pujolsfamilyfoundation.org/event/rattle-n-roll-music-therapy-5/
LOCATION:Maryville University
CATEGORIES:Awareness & Education Events,Down Syndrome Events
END:VEVENT
END:VCALENDAR