BEGIN:VCALENDAR
VERSION:2.0
PRODID:-//Pujols Family Foundation - ECPv5.7.0//NONSGML v1.0//EN
CALSCALE:GREGORIAN
METHOD:PUBLISH
X-WR-CALNAME:Pujols Family Foundation
X-ORIGINAL-URL:https://www.pujolsfamilyfoundation.org
X-WR-CALDESC:Events for Pujols Family Foundation
BEGIN:VTIMEZONE
TZID:UTC
BEGIN:STANDARD
TZOFFSETFROM:+0000
TZOFFSETTO:+0000
TZNAME:UTC
DTSTART:20190101T000000
END:STANDARD
END:VTIMEZONE
BEGIN:VEVENT
DTSTART;TZID=UTC:20190625T140000
DTEND;TZID=UTC:20190625T153000
DTSTAMP:20260421T102020
CREATED:20190222T202611Z
LAST-MODIFIED:20190513T174157Z
UID:4264-1561471200-1561476600@www.pujolsfamilyfoundation.org
SUMMARY:Summer Self Defense Class - St. Louis
DESCRIPTION:
URL:https://www.pujolsfamilyfoundation.org/event/summer-self-defense-class-4/
CATEGORIES:Awareness & Education Events,Down Syndrome Events
END:VEVENT
END:VCALENDAR